BEGIN:VCALENDAR
VERSION:2.0
PRODID:-//Fulbeck Kart Club - ECPv6.15.20//NONSGML v1.0//EN
CALSCALE:GREGORIAN
METHOD:PUBLISH
X-WR-CALNAME:Fulbeck Kart Club
X-ORIGINAL-URL:https://fulbeckkartclub.co.uk
X-WR-CALDESC:Events for Fulbeck Kart Club
REFRESH-INTERVAL;VALUE=DURATION:PT1H
X-Robots-Tag:noindex
X-PUBLISHED-TTL:PT1H
BEGIN:VTIMEZONE
TZID:UTC
BEGIN:STANDARD
TZOFFSETFROM:+0000
TZOFFSETTO:+0000
TZNAME:UTC
DTSTART:20240101T000000
END:STANDARD
END:VTIMEZONE
BEGIN:VEVENT
DTSTART;VALUE=DATE:20250829
DTEND;VALUE=DATE:20250901
DTSTAMP:20260419T132314
CREATED:20250305T214203Z
LAST-MODIFIED:20250305T214207Z
UID:1246-1756425600-1756684799@fulbeckkartclub.co.uk
SUMMARY:Honda Festival
DESCRIPTION:Honda Festival\n						\n						\n						\n					\n				\n					\n				\n				\n				\n			\n				\n				\n			\n				\n				\n				\n				\n				\n				\n				\n				\n				\n				\n				\n				\n				\n				\n				\n				\n				\n				\n					\n					\n						information
URL:https://fulbeckkartclub.co.uk/event/honda-festival/
CATEGORIES:Non-club Contest
END:VEVENT
END:VCALENDAR